BEGIN:VCALENDAR
VERSION:2.0
PRODID:-//Stichting Bredase Aangepaste Sporten - ECPv6.4.0.1//NONSGML v1.0//EN
CALSCALE:GREGORIAN
METHOD:PUBLISH
X-ORIGINAL-URL:https://stbas.nl
X-WR-CALDESC:Evenementen voor Stichting Bredase Aangepaste Sporten
REFRESH-INTERVAL;VALUE=DURATION:PT1H
X-Robots-Tag:noindex
X-PUBLISHED-TTL:PT1H
BEGIN:VTIMEZONE
TZID:Europe/Paris
BEGIN:DAYLIGHT
TZOFFSETFROM:+0100
TZOFFSETTO:+0200
TZNAME:CEST
DTSTART:20230326T010000
END:DAYLIGHT
BEGIN:STANDARD
TZOFFSETFROM:+0200
TZOFFSETTO:+0100
TZNAME:CET
DTSTART:20231029T010000
END:STANDARD
END:VTIMEZONE
BEGIN:VEVENT
DTSTART;TZID=Europe/Paris:20231013T180000
DTEND;TZID=Europe/Paris:20231013T230000
DTSTAMP:20260421T235026
CREATED:20230724T125943Z
LAST-MODIFIED:20230724T130237Z
UID:126-1697220000-1697238000@stbas.nl
SUMMARY:Efteling
DESCRIPTION:Stichting BAS is geloot voor de speciale avond van Wij als ambassadeurs die jaar. Hierbij mogen al onze vrijwilligers en deelnemers mee naar de efteling.
URL:https://stbas.nl/agenda/efteling/
LOCATION:Efteling\, Europalaan 1\, Kaatsheuvel\, Noord Brabant\, 5171KW\, Nederland
END:VEVENT
END:VCALENDAR