BEGIN:VCALENDAR
VERSION:2.0
PRODID:-//Stichting Bredase Aangepaste Sporten - ECPv6.4.0.1//NONSGML v1.0//EN
CALSCALE:GREGORIAN
METHOD:PUBLISH
X-ORIGINAL-URL:https://stbas.nl
X-WR-CALDESC:Evenementen voor Stichting Bredase Aangepaste Sporten
REFRESH-INTERVAL;VALUE=DURATION:PT1H
X-Robots-Tag:noindex
X-PUBLISHED-TTL:PT1H
BEGIN:VTIMEZONE
TZID:Europe/Paris
BEGIN:DAYLIGHT
TZOFFSETFROM:+0100
TZOFFSETTO:+0200
TZNAME:CEST
DTSTART:20230326T010000
END:DAYLIGHT
BEGIN:STANDARD
TZOFFSETFROM:+0200
TZOFFSETTO:+0100
TZNAME:CET
DTSTART:20231029T010000
END:STANDARD
BEGIN:DAYLIGHT
TZOFFSETFROM:+0100
TZOFFSETTO:+0200
TZNAME:CEST
DTSTART:20240331T010000
END:DAYLIGHT
BEGIN:STANDARD
TZOFFSETFROM:+0200
TZOFFSETTO:+0100
TZNAME:CET
DTSTART:20241027T010000
END:STANDARD
END:VTIMEZONE
BEGIN:VEVENT
DTSTART;VALUE=DATE:20231224
DTEND;VALUE=DATE:20231227
DTSTAMP:20260421T235712
CREATED:20230731T191159Z
LAST-MODIFIED:20230731T191211Z
UID:252-1703376000-1703635199@stbas.nl
SUMMARY:Stichting BAS wenst u fijne feestdagen en een gelukkig 2024
DESCRIPTION:
URL:https://stbas.nl/agenda/stichting-bas-wenst-u-fijne-feestdagen-en-een-gelukkig-2024/
LOCATION:Stichting BAS\, Riethill 11\, Breda\, 4825 AP
END:VEVENT
BEGIN:VEVENT
DTSTART;TZID=Europe/Paris:20240429T190000
DTEND;TZID=Europe/Paris:20240429T200000
DTSTAMP:20260421T235712
CREATED:20240429T105825Z
LAST-MODIFIED:20240429T105825Z
UID:1169-1714417200-1714420800@stbas.nl
SUMMARY:Begeleid Fitness
DESCRIPTION:
URL:https://stbas.nl/agenda/begeleid-fitness-3/
LOCATION:PMC Breda West\, Laan van Mertersem 65\, Breda\, Nederland
END:VEVENT
BEGIN:VEVENT
DTSTART;TZID=Europe/Paris:20240430T183000
DTEND;TZID=Europe/Paris:20240430T200000
DTSTAMP:20260421T235712
CREATED:20240429T105937Z
LAST-MODIFIED:20240429T105937Z
UID:1171-1714501800-1714507200@stbas.nl
SUMMARY:Judo
DESCRIPTION:
URL:https://stbas.nl/agenda/judo-2/
LOCATION:Gemeentelijk Sportcentrum\, Bijster 1\, Breda\, Noord Brabant\, 4817HX\, Nederland
END:VEVENT
BEGIN:VEVENT
DTSTART;TZID=Europe/Paris:20240430T190000
DTEND;TZID=Europe/Paris:20240430T200000
DTSTAMP:20260421T235712
CREATED:20240429T110020Z
LAST-MODIFIED:20240429T110020Z
UID:1173-1714503600-1714507200@stbas.nl
SUMMARY:Aquasport
DESCRIPTION:
URL:https://stbas.nl/agenda/aquasport-2/
LOCATION:Optisport van Sonsbeeck\, Pieter Christiaanstraat 2\, Breda\, Noord Brabant\, 4811\, Nederland
END:VEVENT
BEGIN:VEVENT
DTSTART;TZID=Europe/Paris:20240430T190000
DTEND;TZID=Europe/Paris:20240430T200000
DTSTAMP:20260421T235712
CREATED:20240429T110310Z
LAST-MODIFIED:20240429T110311Z
UID:1177-1714503600-1714507200@stbas.nl
SUMMARY:Boccé
DESCRIPTION:
URL:https://stbas.nl/agenda/bocce/
LOCATION:Revant\, Brabantlaan 1\, Breda\, Noord Brabant\, Nederland
END:VEVENT
BEGIN:VEVENT
DTSTART;TZID=Europe/Paris:20240430T191500
DTEND;TZID=Europe/Paris:20240430T210000
DTSTAMP:20260421T235712
CREATED:20240429T110110Z
LAST-MODIFIED:20240429T110110Z
UID:1175-1714504500-1714510800@stbas.nl
SUMMARY:Stijldansen
DESCRIPTION:
URL:https://stbas.nl/agenda/stijldansen-2/
LOCATION:Belcrumhuis\, Pastoor Pottersplein 12\, Breda\, Noord Brabant\, 4815BC\, Nederland
END:VEVENT
BEGIN:VEVENT
DTSTART;TZID=Europe/Paris:20240501T180000
DTEND;TZID=Europe/Paris:20240501T190000
DTSTAMP:20260421T235712
CREATED:20240429T110506Z
LAST-MODIFIED:20240429T111344Z
UID:1181-1714586400-1714590000@stbas.nl
SUMMARY:Begeleid Fitness Groep 1
DESCRIPTION:
URL:https://stbas.nl/agenda/begeleid-fitness-groep-1/
LOCATION:PMC Breda West\, Laan van Mertersem 65\, Breda\, Nederland
END:VEVENT
BEGIN:VEVENT
DTSTART;TZID=Europe/Paris:20240501T190000
DTEND;TZID=Europe/Paris:20240501T200000
DTSTAMP:20260421T235712
CREATED:20240429T111435Z
LAST-MODIFIED:20240429T111435Z
UID:1183-1714590000-1714593600@stbas.nl
SUMMARY:Begeleid Fitness groep 2
DESCRIPTION:
URL:https://stbas.nl/agenda/begeleid-fitness-groep-2/
LOCATION:PMC Breda West\, Laan van Mertersem 65\, Breda\, Nederland
END:VEVENT
BEGIN:VEVENT
DTSTART;TZID=Europe/Paris:20240501T190000
DTEND;TZID=Europe/Paris:20240501T200000
DTSTAMP:20260421T235712
CREATED:20240429T112605Z
LAST-MODIFIED:20240429T112605Z
UID:1179-1714590000-1714593600@stbas.nl
SUMMARY:Yoga
DESCRIPTION:
URL:https://stbas.nl/agenda/yoga-2/
LOCATION:YogaSite\, Dr. Struyckenstraat 165\, Breda\, Nederland
END:VEVENT
BEGIN:VEVENT
DTSTART;TZID=Europe/Paris:20240502T183000
DTEND;TZID=Europe/Paris:20240502T193000
DTSTAMP:20260421T235712
CREATED:20240429T111531Z
LAST-MODIFIED:20240429T111531Z
UID:1185-1714674600-1714678200@stbas.nl
SUMMARY:Reva zwemmen
DESCRIPTION:
URL:https://stbas.nl/agenda/reva-zwemmen/
LOCATION:Revant\, Brabantlaan 1\, Breda\, Noord Brabant\, Nederland
END:VEVENT
BEGIN:VEVENT
DTSTART;TZID=Europe/Paris:20240502T193000
DTEND;TZID=Europe/Paris:20240502T203000
DTSTAMP:20260421T235712
CREATED:20240429T112312Z
LAST-MODIFIED:20240429T112312Z
UID:1193-1714678200-1714681800@stbas.nl
SUMMARY:Reva zwemmen
DESCRIPTION:
URL:https://stbas.nl/agenda/reva-zwemmen-2/
LOCATION:Revant\, Brabantlaan 1\, Breda\, Noord Brabant\, Nederland
END:VEVENT
BEGIN:VEVENT
DTSTART;TZID=Europe/Paris:20240504T110000
DTEND;TZID=Europe/Paris:20240504T130000
DTSTAMP:20260421T235712
CREATED:20240429T112354Z
LAST-MODIFIED:20240429T112354Z
UID:1195-1714820400-1714827600@stbas.nl
SUMMARY:Bowlen
DESCRIPTION:
URL:https://stbas.nl/agenda/bowlen-3/
LOCATION:Bowling en partycentrum\, Nassausingel 28\, Breda\, Nederland
END:VEVENT
BEGIN:VEVENT
DTSTART;TZID=Europe/Paris:20240504T140000
DTEND;TZID=Europe/Paris:20240504T150000
DTSTAMP:20260421T235712
CREATED:20240429T112437Z
LAST-MODIFIED:20240429T112437Z
UID:1197-1714831200-1714834800@stbas.nl
SUMMARY:Begeleid Fitness
DESCRIPTION:
URL:https://stbas.nl/agenda/begeleid-fitness-4/
LOCATION:PMC Breda West\, Laan van Mertersem 65\, Breda\, Nederland
END:VEVENT
BEGIN:VEVENT
DTSTART;TZID=Europe/Paris:20240504T150000
DTEND;TZID=Europe/Paris:20240504T160000
DTSTAMP:20260421T235712
CREATED:20240429T112533Z
LAST-MODIFIED:20240429T112533Z
UID:1199-1714834800-1714838400@stbas.nl
SUMMARY:Begeleid Fitness
DESCRIPTION:
URL:https://stbas.nl/agenda/begeleid-fitness-5/
LOCATION:PMC Breda West\, Laan van Mertersem 65\, Breda\, Nederland
END:VEVENT
BEGIN:VEVENT
DTSTART;TZID=Europe/Paris:20240512T120000
DTEND;TZID=Europe/Paris:20240512T140000
DTSTAMP:20260421T235712
CREATED:20240429T112649Z
LAST-MODIFIED:20240429T112649Z
UID:1201-1715515200-1715522400@stbas.nl
SUMMARY:Bowlen
DESCRIPTION:
URL:https://stbas.nl/agenda/bowlen-4/
LOCATION:Bowling en partycentrum\, Nassausingel 28\, Breda\, Nederland
END:VEVENT
BEGIN:VEVENT
DTSTART;TZID=Europe/Paris:20240614T150000
DTEND;TZID=Europe/Paris:20240616T170000
DTSTAMP:20260421T235712
CREATED:20240429T105601Z
LAST-MODIFIED:20240429T105601Z
UID:1164-1718377200-1718557200@stbas.nl
SUMMARY:Special Olympics Breda Tilburg 2024
DESCRIPTION:Op vrijdag 14 juni klinkt het startschot van de Nationale Special Olympics in Breda en Tilburg. Wij zijn samen met onze bowlers en een aantal stijldansers actief op dit toernooi.  \n  \nOok zijn er een aantal side events zoals wandelen\, bocce\, beach volleybal en urban sports. Meer informatie op www.specialolympics2024.nl \n  \n  \n 
URL:https://stbas.nl/agenda/special-olympics-breda-tilburg-2024/
LOCATION:Breda
END:VEVENT
BEGIN:VEVENT
DTSTART;VALUE=DATE:20240701
DTEND;VALUE=DATE:20240807
DTSTAMP:20260421T235712
CREATED:20240429T112027Z
LAST-MODIFIED:20240429T112027Z
UID:1189-1719792000-1722988799@stbas.nl
SUMMARY:Vakantiesluiting Stichting BAS
DESCRIPTION:
URL:https://stbas.nl/agenda/vakantiesluiting-stichting-bas/
LOCATION:Kantoor BAS\, Riethil 11\, Breda\, Brabant\, 4825 AP\, Nederland
END:VEVENT
END:VCALENDAR